BEGIN:VCALENDAR
VERSION:2.0
PRODID:-//pretix//pretix.eu//
BEGIN:VTIMEZONE
TZID:Europe/Berlin
BEGIN:STANDARD
DTSTART:20001029T040000
RRULE:FREQ=YEARLY;BYDAY=-1SU;BYMONTH=10
TZNAME:CET
TZOFFSETFROM:+0200
TZOFFSETTO:+0100
END:STANDARD
BEGIN:DAYLIGHT
DTSTART:20000326T030000
RRULE:FREQ=YEARLY;BYDAY=-1SU;BYMONTH=3
TZNAME:CEST
TZOFFSETFROM:+0100
TZOFFSETTO:+0200
END:DAYLIGHT
END:VTIMEZONE
BEGIN:VEVENT
UID:pretix-nammen35-vt-gaeste-4558596@nammen35.vereinsticket.de
DTSTART;TZID=Europe/Berlin:20250522T190000
DTEND;TZID=Europe/Berlin:20250522T200000
DESCRIPTION:Tickets: https://nammen35.vereinsticket.de/vt-gaeste/4558596/\n
 Veranstalter: Bürgerhaus Nammen e. V.
DTSTAMP:20260420T010151Z
LOCATION:Nammen35\, großer Saal\, Untkenstraße 2 a\, 32457 Porta Westfali
 ca
SUMMARY:Uwe Spinder - Da Lacht der Fußball! Anekdoten - Kuriositäten - Fa
 kten - Legenden - Sprüche
END:VEVENT
END:VCALENDAR
